BEGIN:VCALENDAR
VERSION:2.0
PRODID:-//Australian Association for Psychological Type Inc. - ECPv6.15.20//NONSGML v1.0//EN
CALSCALE:GREGORIAN
METHOD:PUBLISH
X-WR-CALNAME:Australian Association for Psychological Type Inc.
X-ORIGINAL-URL:https://ausapt.org.au
X-WR-CALDESC:Events for Australian Association for Psychological Type Inc.
REFRESH-INTERVAL;VALUE=DURATION:PT1H
X-Robots-Tag:noindex
X-PUBLISHED-TTL:PT1H
BEGIN:VTIMEZONE
TZID:Australia/Melbourne
BEGIN:STANDARD
TZOFFSETFROM:+1100
TZOFFSETTO:+1000
TZNAME:AEST
DTSTART:20240406T160000
END:STANDARD
BEGIN:DAYLIGHT
TZOFFSETFROM:+1000
TZOFFSETTO:+1100
TZNAME:AEDT
DTSTART:20241005T160000
END:DAYLIGHT
BEGIN:STANDARD
TZOFFSETFROM:+1100
TZOFFSETTO:+1000
TZNAME:AEST
DTSTART:20250405T160000
END:STANDARD
BEGIN:DAYLIGHT
TZOFFSETFROM:+1000
TZOFFSETTO:+1100
TZNAME:AEDT
DTSTART:20251004T160000
END:DAYLIGHT
BEGIN:STANDARD
TZOFFSETFROM:+1100
TZOFFSETTO:+1000
TZNAME:AEST
DTSTART:20260404T160000
END:STANDARD
BEGIN:DAYLIGHT
TZOFFSETFROM:+1000
TZOFFSETTO:+1100
TZNAME:AEDT
DTSTART:20261003T160000
END:DAYLIGHT
END:VTIMEZONE
BEGIN:VTIMEZONE
TZID:Australia/Melbourne
BEGIN:STANDARD
TZOFFSETFROM:+1100
TZOFFSETTO:+1000
TZNAME:AEST
DTSTART:20250405T160000
END:STANDARD
BEGIN:DAYLIGHT
TZOFFSETFROM:+1000
TZOFFSETTO:+1100
TZNAME:AEDT
DTSTART:20251004T160000
END:DAYLIGHT
BEGIN:STANDARD
TZOFFSETFROM:+1100
TZOFFSETTO:+1000
TZNAME:AEST
DTSTART:20260404T160000
END:STANDARD
BEGIN:DAYLIGHT
TZOFFSETFROM:+1000
TZOFFSETTO:+1100
TZNAME:AEDT
DTSTART:20261003T160000
END:DAYLIGHT
BEGIN:STANDARD
TZOFFSETFROM:+1100
TZOFFSETTO:+1000
TZNAME:AEST
DTSTART:20270403T160000
END:STANDARD
BEGIN:DAYLIGHT
TZOFFSETFROM:+1000
TZOFFSETTO:+1100
TZNAME:AEDT
DTSTART:20271002T160000
END:DAYLIGHT
END:VTIMEZONE
BEGIN:VEVENT
DTSTART;TZID=Australia/Melbourne:20251009T183000
DTEND;TZID=Australia/Melbourne:20251009T210000
DTSTAMP:20260422T111937
CREATED:20250903T073733Z
LAST-MODIFIED:20250903T075235Z
UID:12016-1760034600-1760043600@ausapt.org.au
SUMMARY:‘Soiree Au Revoiree’
DESCRIPTION:An Evening  of Celebration of the Life of AusAPT\n\n\n\n\n\nDoors open 6.00pm \n\n\n\n \n\n\n\nMemories and Reflections with Guest Entertainers from Australia and the United Kingdom \n\n\n\n \n\n\n\nThis fully catered event is open to Members of AusAPT – plus all delegates registered to attend the Annual Conference in Melbourne on Friday 10th October. \n\n\n\nNote: The evening will include a short Annual General Meeting for Members at 7.00pm
URL:https://ausapt.org.au/event/soiree-au-revoiree/
LOCATION:The Epicentre\, 427 Glen Eira Rd\, CAULFIELD NORTH\, Victoria\, 3161\, Australia
ORGANIZER;CN="Andrew Mountford":MAILTO:President@ausapt.org.au
END:VEVENT
BEGIN:VEVENT
DTSTART;TZID=Australia/Melbourne:20251010T090000
DTEND;TZID=Australia/Melbourne:20251010T170000
DTSTAMP:20260422T111937
CREATED:20250903T063159Z
LAST-MODIFIED:20250904T135924Z
UID:11964-1760086800-1760115600@ausapt.org.au
SUMMARY:AusAPT Conference 2025
DESCRIPTION:‘10/10’ – Our Final AusAPT Annual Conference\n\n\n\nAusAPT was conceived at a conference — the Myers-Briggs Type Indicator: Australian Perspectives conference\, held in Melbourne in October 1991. \n\n\n\nIn October this year\, we’ll be back in Melbourne for our 20th — and last — AusAPT conference.  \n\n\n\nIn CB radio code\, “10/10” means “transmission completed” — so it’s apt that we’ll gather on the tenth day of the tenth month for our final face-to-face conference\, at Karstens Conference Centre in central Melbourne. \n\n\n\nOur Friday conference program features distinguished figures from the world of personality type\, locally and internationally — Sue Blair\, Mark Toner\, Alex MacFarlane\, and one of AusAPT’s founders\, Peter Malone. \n\n\n\nWe’ve kept the price of our 10/10 Conference low which includes lunch and post-conference drinks. Prices are: \n\n\n\n\n\nYour conference registration also includes an invitation to our Thursday evening pre-conference Soirée Au Revoirée at the charming Epicentre in suburban Caulfield North.  \n\n\n\n\nBuy the AusAPT Conference 2025 Ticket here!\n\n\n\n\n\n\n\n\nWe look forward to seeing you in Melbourne soon! \n\n\n\n\n\n\nDownload the AusAPT 2025 Conference Program\n\n\n\n\n\n\n\n\nTea and Coffee from 9.00am for 9.30am Start and 5.00pm Close \n\n\n\nThe Conference will be followed by a ‘Happy Hour’ at the venue – from 5.00pm – 6.00pm
URL:https://ausapt.org.au/event/ausapt-conference-2025/
LOCATION:Karstens Convention Centre\, 123 Queen St\, Melbourne\, VIC\, 3000\, Australia
CATEGORIES:AusAPT Conference
ORGANIZER;CN="Andrew Mountford":MAILTO:President@ausapt.org.au
END:VEVENT
BEGIN:VEVENT
DTSTART;TZID=Australia/Melbourne:20251204T183000
DTEND;TZID=Australia/Melbourne:20251204T210000
DTSTAMP:20260422T111937
CREATED:20250903T080719Z
LAST-MODIFIED:20251125T085705Z
UID:12024-1764873000-1764882000@ausapt.org.au
SUMMARY:Victorian Region EOY Celebration
DESCRIPTION:End of Year Celebration with Guest Presenter Julie Andrews \n\n\n\nRSVP with Meredith Fuller by 1st Dec. Julie Andrews – Art Page is a well-known artist and Type practitioner – her talks on liminal art and Jungian concepts are fascinating. She will also discuss her art practice.
URL:https://ausapt.org.au/event/victorian-region-eoy-celebration/
LOCATION:The Epicentre\, Caulfield North\, Caulfield North\, Victoria\, Australia
ORGANIZER;CN="Andrew Mountford":MAILTO:President@ausapt.org.au
END:VEVENT
BEGIN:VEVENT
DTSTART;TZID=Australia/Melbourne:20260418T100000
DTEND;TZID=Australia/Melbourne:20260419T100000
DTSTAMP:20260422T111937
CREATED:20260306T090728Z
LAST-MODIFIED:20260324T033903Z
UID:12184-1776506400-1776592800@ausapt.org.au
SUMMARY:Type Around The Clock
DESCRIPTION:Registrations are now open for Type Around The Clock\n\n\n\n\n\nHere are the session times for our Time Zones: \n\n\n\n\nDownload our session times\n\n\n\n\nClick this link for more information and to register: \n\n\n\n\nEvent Information & Register\n\n\n\n\nType Around The Clock is a worldwide event that will unfold online around the world on and around April 18th\, 2026.  \n\n\n\nAltogether\, no less than 9 sessions will successively go live around 3 main time zones: Asia-Pacific\, Europe\, and North America. In each of the 3 time zones\, the 3 sessions will be followed by an online social gathering.  \n\n\n\nFollow this link to download a detailed timetable. \n\n\n\nFor time zones not listed\, you can convert into your local time with https://www.timeanddate.com/. \n\n\n\nTo display details about the session and a speaker bio\, just click on the circled lower case “i” symbol – you need to click on the blue ‘Tickets’ rectangle first to access this information. \n\n\n\nThe event is FREE for all sessions. You just need to register for the sessions of your choice below. Organizers and speakers make this event possible through their volunteer work. You can also make a donation to help us pay for the technological infrastructure that makes it possible. \n\n\n\nMAKE SURE YOU DOWNLOAD YOUR TICKETS ONCE YOU HAVE COMPLETED REGISTRATION: THIS IS WHERE YOU WILL FIND THE ZOOM LINKS TO ATTEND THE SESSIONS! \n\n\n\nAll sessions will be held in English\, except for one that will be in Japanese. The technology we use allows you to display captions in the original language or in the language of your choice (translation is automatic). It is best to attend the event live to allow for interaction with the speakers and the other participants. However\, recordings will be available later. \n\n\n\nType associations around the world created this event: AusAPT (Australia)\, TypeLab (Japan)\, BAPT (UK)\, AFTP (France)\, APTI (USA). \n\n\n\nType Around The Clock will be accessible to anyone\, anywhere\, at any time during its 24-hour duration. But some sessions will\, of course\, be at more convenient times than others. \n\n\n\nIf you’re in Australasia\, the first two sessions will run daytime Saturday 18th April: Brian Lawrence will start at 10:30am AEST in eastern Australia (12:30pm in New Zealand)\, followed by Terri Connellan at 12:30pm AEST (2:30pm NZ). You might also like to join Terumi Ito’s session at 3pm AEST (5pm NZ): it will be conducted in Japanese\, but with live-translated captions that may give you the gist of the discussion. \n\n\n\nThe next block of sessions\, from our type friends in the UK and France\, will follow on Saturday evening and night: Josh Leach and Jerry Gilpin at 6:30pm AEST (8:30pm NZ); Steven Launay at 8:30pm AEST (10:30pm NZ); and Sue Blair and Elizabeth Dunn at 11:00pm AEST (1:00am Sunday NZ). \n\n\n\nThe final block\, from our type friends in America\, will continue through the wee hours of Sunday morning. You might like to stay up for Denzel Mensah (2:30am AEST\, 4:30am NZ) and Kevin Kell (4:30am AEST\, 6:30am NZ)\, or get up early for Dario Nardi (7:00am AEST\, 9:00am NZ). \n\n\n\nYou’re welcome to register for just one or two sessions of special interest — or for a round-the -clock marathon of all nine sessions. \n\n\n\nBetween the presentations there will be breaks and social sessions\, a great opportunity to meet and chat with other type enthusiasts from all over the world. \n\n\n\nAnd for those who like turning the pages of a booklet\, CHECK THIS OUT – a wonderful contribution from BAPT’s Ros O’Donnell  \n\n\n\nhttps://publuu.com/flip-book/1065909/2372242
URL:https://ausapt.org.au/event/type-around-the-clock/
LOCATION:Online Event
CATEGORIES:AusAPT Online Events
ORGANIZER;CN="AusAPT":MAILTO:info@ausapt.org.au
END:VEVENT
END:VCALENDAR