BEGIN:VCALENDAR
VERSION:2.0
PRODID:-//Australian Association for Psychological Type Inc. - ECPv6.15.20//NONSGML v1.0//EN
CALSCALE:GREGORIAN
METHOD:PUBLISH
X-ORIGINAL-URL:https://ausapt.org.au
X-WR-CALDESC:Events for Australian Association for Psychological Type Inc.
REFRESH-INTERVAL;VALUE=DURATION:PT1H
X-Robots-Tag:noindex
X-PUBLISHED-TTL:PT1H
BEGIN:VTIMEZONE
TZID:Australia/Melbourne
BEGIN:STANDARD
TZOFFSETFROM:+1100
TZOFFSETTO:+1000
TZNAME:AEST
DTSTART:20240406T160000
END:STANDARD
BEGIN:DAYLIGHT
TZOFFSETFROM:+1000
TZOFFSETTO:+1100
TZNAME:AEDT
DTSTART:20241005T160000
END:DAYLIGHT
BEGIN:STANDARD
TZOFFSETFROM:+1100
TZOFFSETTO:+1000
TZNAME:AEST
DTSTART:20250405T160000
END:STANDARD
BEGIN:DAYLIGHT
TZOFFSETFROM:+1000
TZOFFSETTO:+1100
TZNAME:AEDT
DTSTART:20251004T160000
END:DAYLIGHT
BEGIN:STANDARD
TZOFFSETFROM:+1100
TZOFFSETTO:+1000
TZNAME:AEST
DTSTART:20260404T160000
END:STANDARD
BEGIN:DAYLIGHT
TZOFFSETFROM:+1000
TZOFFSETTO:+1100
TZNAME:AEDT
DTSTART:20261003T160000
END:DAYLIGHT
END:VTIMEZONE
BEGIN:VEVENT
DTSTART;TZID=Australia/Melbourne:20251009T183000
DTEND;TZID=Australia/Melbourne:20251009T210000
DTSTAMP:20260417T075924
CREATED:20250903T073733Z
LAST-MODIFIED:20250903T075235Z
UID:12016-1760034600-1760043600@ausapt.org.au
SUMMARY:‘Soiree Au Revoiree’
DESCRIPTION:An Evening  of Celebration of the Life of AusAPT\n\n\n\n\n\nDoors open 6.00pm \n\n\n\n \n\n\n\nMemories and Reflections with Guest Entertainers from Australia and the United Kingdom \n\n\n\n \n\n\n\nThis fully catered event is open to Members of AusAPT – plus all delegates registered to attend the Annual Conference in Melbourne on Friday 10th October. \n\n\n\nNote: The evening will include a short Annual General Meeting for Members at 7.00pm
URL:https://ausapt.org.au/event/soiree-au-revoiree/
LOCATION:The Epicentre\, 427 Glen Eira Rd\, CAULFIELD NORTH\, Victoria\, 3161\, Australia
ORGANIZER;CN="Andrew Mountford":MAILTO:President@ausapt.org.au
END:VEVENT
END:VCALENDAR